BEGIN:VCALENDAR
VERSION:2.0
PRODID:-//Library Market//iCal Export//EN
BEGIN:VEVENT
SUMMARY:Baby Time
UID:26420
DTSTAMP:20260421T094400Z
DTSTART:20260604T143000Z
DTEND:20260604T151500Z
LOCATION:South Plainfield Public Library, 2484 Plainfield Ave., South Plai
 nfield, NJ 07080, United States
ROOM: Multipurpose Room
DESCRIPTION:
URL:https://southplainfield.librarycalendar.com/event/baby-time-26420
END:VEVENT
END:VCALENDAR
