BEGIN:VCALENDAR
VERSION:2.0
PRODID:-//Library Market//iCal Export//EN
BEGIN:VEVENT
SUMMARY:Baby Time
UID:26414
DTSTAMP:20260422T104100Z
DTSTART:20260514T143000Z
DTEND:20260514T151500Z
LOCATION:South Plainfield Public Library, 2484 Plainfield Ave., South Plai
 nfield, NJ 07080, United States
ROOM: Multipurpose Room
DESCRIPTION:
URL:https://southplainfield.librarycalendar.com/event/baby-time-26414
END:VEVENT
END:VCALENDAR
