BEGIN:VCALENDAR
VERSION:2.0
PRODID:-//Library Market//iCal Export//EN
BEGIN:VEVENT
SUMMARY:Creative Crafting With Karen
UID:23283
DTSTAMP:20260423T200800Z
DTSTART:20260521T220000Z
DTEND:20260521T234500Z
LOCATION:South Plainfield Public Library, 2484 Plainfield Ave., South Plai
 nfield, NJ 07080, United States
ROOM: Multipurpose Room
DESCRIPTION:Please join us this month for Creative Crafting with Karen as 
 we create a spring wreath.Please note:  We do have a new policy in place 
 where if you don&#039;t show up after 15 minutes without notifying, your s
 pot may be given away if a walk in comes for the craft.Due to people regis
 tering for adult programs and not showing up, THIS PROGRAM REQUIRES a $10 
 deposit within a week of registration. If you do not come in with your dep
 osit within a week, you will be removed from the program and your spot wil
 l be given to someone else. You will get your $10 back the day of the pro
 gram when you come. If you register, leave a deposit and can’t make it, 
 you need to let us know AT LEAST a day before the program to get your depo
 sit back. If you don’t show up for the program, you FORFEIT your deposit
 .Arriving on time is appreciated.** THIS IS AN ADULT CRAFT ONLY, ANYONE UN
 DER 18 WILL NOT BE ADMITTED**
URL:https://southplainfield.librarycalendar.com/event/creative-crafting-ka
 ren-23283
END:VEVENT
END:VCALENDAR
