BEGIN:VCALENDAR
VERSION:2.0
PRODID:-//Library Market//iCal Export//EN
BEGIN:VEVENT
SUMMARY:Tuesday Book Club
UID:23066
DTSTAMP:20260419T174800Z
DTSTART:20260414T200000Z
DTEND:20260414T213000Z
LOCATION:
DESCRIPTION:This month&#039;s book is Finlay Donovan Jumps the Gun-Elle Co
 samino** IF INTERESTED IN ATTENDING, PLEASE EMAIL spcurbsidepickup@gmail.c
 om AND A ZOOM LINK WILL BE SENT TO YOU** 
URL:https://southplainfield.librarycalendar.com/event/tuesday-book-club-23
 066
END:VEVENT
END:VCALENDAR
